View In:
ArcGIS JavaScript
ArcGIS Online Map Viewer
ArcGIS Earth
Service Description: MISP_crane_2022_nw_cir
Name: MISP_crane_2022_nw_cir
Description:
Single Fused Map Cache: false
Extent:
XMin: -1.0826340308373637E7
YMin: 3201359.688085046
XMax: -1.0811451308373637E7
YMax: 3217947.288085046
Spatial Reference: 102100
(3857)
Initial Extent:
XMin: -1.0826340308373637E7
YMin: 3201359.688085046
XMax: -1.0811451308373637E7
YMax: 3217947.288085046
Spatial Reference: 102100
(3857)
Full Extent:
XMin: -1.0826340308373637E7
YMin: 3201359.688085046
XMax: -1.0811451308373637E7
YMax: 3217947.288085046
Spatial Reference: 102100
(3857)
Pixel Size X: 0.6
Pixel Size Y: 0.6000000000000034
Band Count: 3
Pixel Type: U8
RasterFunction Infos: {"rasterFunctionInfos": [{
"help": "",
"name": "None",
"description": ""
}]}
Mensuration Capabilities: Basic
Inspection Capabilities:
Has Histograms: true
Has Colormap: false
Has Multi Dimensions : false
Rendering Rule:
Min Scale: 0
Max Scale: 0
Copyright Text:
Service Data Type: esriImageServiceDataTypeRGB
Min Values: 0, 0, 0
Max Values: 255, 255, 255
Mean Values: 34.135770668365858, 69.086930916649806, 83.267871766614675
Standard Deviation Values: 43.972601929793143, 55.888190083661648, 55.151038636092586
Object ID Field:
Fields:
None
Default Mosaic Method: Center
Allowed Mosaic Methods:
SortField:
SortValue: N/A
Mosaic Operator: First
Default Compression Quality: 75
Default Resampling Method: Bilinear
Max Record Count: null
Max Image Height: 4100
Max Image Width: 15000
Max Download Image Count: null
Max Mosaic Image Count: null
Allow Raster Function: true
Allow Copy: true
Allow Analysis: true
Allow Compute TiePoints: false
Supports Statistics: false
Supports Advanced Queries: false
Use StandardizedQueries: false
Raster Type Infos:
Name: Raster Dataset
Description: Supports all ArcGIS Raster Datasets
Help:
Has Raster Attribute Table: false
Edit Fields Info: N/A
Ownership Based AccessControl For Rasters: N/A
Child Resources:
Info
Histograms
Statistics
Key Properties
Legend
Raster Function Infos
Supported Operations:
Export Image
Identify
Measure
Compute Histograms
Compute Statistics Histograms
Get Samples
Compute Class Statistics
Query Boundary
Compute Pixel Location
Compute Angles
Validate
Project