View In:
ArcGIS JavaScript
ArcGIS Online Map Viewer
ArcGIS Earth
Service Description: GISP_naip_2020_rgb
Name: GISP_naip_2020_rgb
Description:
Single Fused Map Cache: false
Extent:
XMin: -1.0575855419857996E7
YMin: 3391216.682421018
XMax: -1.0567897019857995E7
YMax: 3407854.082421018
Spatial Reference: 102100
(3857)
Initial Extent:
XMin: -1.0575855419857996E7
YMin: 3391216.682421018
XMax: -1.0567897019857995E7
YMax: 3407854.082421018
Spatial Reference: 102100
(3857)
Full Extent:
XMin: -1.0575855419857996E7
YMin: 3391216.682421018
XMax: -1.0567897019857995E7
YMax: 3407854.082421018
Spatial Reference: 102100
(3857)
Pixel Size X: 0.6000000000000281
Pixel Size Y: 0.5999999999999966
Band Count: 5
Pixel Type: U8
RasterFunction Infos: {"rasterFunctionInfos": [{
"help": "",
"name": "None",
"description": ""
}]}
Mensuration Capabilities: Basic
Inspection Capabilities:
Has Histograms: true
Has Colormap: false
Has Multi Dimensions : false
Rendering Rule:
Min Scale: 0
Max Scale: 0
Copyright Text:
Service Data Type: esriImageServiceDataTypeGeneric
Min Values: 21, 28, 33, 0, 0
Max Values: 255, 255, 255, 255, 255
Mean Values: 113.01744975342504, 133.60288197040848, 112.91973593802166, 41.096375137194819, 250.82228174734612
Standard Deviation Values: 29.582594513718426, 24.420702892289924, 26.549758709664559, 56.75344367253053, 32.370740300490148
Object ID Field:
Fields:
None
Default Mosaic Method: Center
Allowed Mosaic Methods:
SortField:
SortValue: N/A
Mosaic Operator: First
Default Compression Quality: 75
Default Resampling Method: Bilinear
Max Record Count: null
Max Image Height: 4100
Max Image Width: 15000
Max Download Image Count: null
Max Mosaic Image Count: null
Allow Raster Function: true
Allow Copy: true
Allow Analysis: true
Allow Compute TiePoints: false
Supports Statistics: false
Supports Advanced Queries: false
Use StandardizedQueries: false
Raster Type Infos:
Name: Raster Dataset
Description: Supports all ArcGIS Raster Datasets
Help:
Has Raster Attribute Table: false
Edit Fields Info: N/A
Ownership Based AccessControl For Rasters: N/A
Child Resources:
Info
Histograms
Statistics
Key Properties
Legend
Raster Function Infos
Supported Operations:
Export Image
Identify
Measure
Compute Histograms
Compute Statistics Histograms
Get Samples
Compute Class Statistics
Query Boundary
Compute Pixel Location
Compute Angles
Validate
Project