{
 "extent": {
  "ymin": 3391161.0049916953,
  "xmin": -10575933.073982693,
  "ymax": 3407969.4049916952,
  "xmax": -10560927.073982693,
  "spatialReference": {
   "latestWkid": 3857,
   "wkid": 102100
  }
 },
 "blockWidth": 128,
 "mosaicOperator": "First",
 "serviceSourceType": "esriImageServiceSourceTypeDataset",
 "hasMultidimensions": false,
 "maxImageWidth": 15000,
 "tileInfo": {
  "lods": [
   {
    "level": 0,
    "scale": 591657527.591555,
    "resolution": 156543.03392800014
   },
   {
    "level": 1,
    "scale": 295828763.79577702,
    "resolution": 78271.516963999937
   },
   {
    "level": 2,
    "scale": 147914381.89788899,
    "resolution": 39135.758482000092
   },
   {
    "level": 3,
    "scale": 73957190.948944002,
    "resolution": 19567.879240999919
   },
   {
    "level": 4,
    "scale": 36978595.474472001,
    "resolution": 9783.9396204999593
   },
   {
    "level": 5,
    "scale": 18489297.737236001,
    "resolution": 4891.9698102499797
   },
   {
    "level": 6,
    "scale": 9244648.8686180003,
    "resolution": 2445.9849051249898
   },
   {
    "level": 7,
    "scale": 4622324.4343090001,
    "resolution": 1222.9924525624949
   },
   {
    "level": 8,
    "scale": 2311162.2171550002,
    "resolution": 611.49622628137968
   },
   {
    "level": 9,
    "scale": 1155581.108577,
    "resolution": 305.74811314055756
   },
   {
    "level": 10,
    "scale": 577790.55428899999,
    "resolution": 152.87405657041106
   },
   {
    "level": 11,
    "scale": 288895.27714399999,
    "resolution": 76.437028285073239
   },
   {
    "level": 12,
    "scale": 144447.638572,
    "resolution": 38.21851414253662
   },
   {
    "level": 13,
    "scale": 72223.819285999998,
    "resolution": 19.10925707126831
   },
   {
    "level": 14,
    "scale": 36111.909642999999,
    "resolution": 9.5546285356341549
   },
   {
    "level": 15,
    "scale": 18055.954822,
    "resolution": 4.7773142679493699
   },
   {
    "level": 16,
    "scale": 9027.9774109999998,
    "resolution": 2.3886571339746849
   },
   {
    "level": 17,
    "scale": 4513.9887049999998,
    "resolution": 1.1943285668550503
   },
   {
    "level": 18,
    "scale": 2256.994353,
    "resolution": 0.59716428355981721
   },
   {
    "level": 19,
    "scale": 1128.4971760000001,
    "resolution": 0.29858214164761665
   },
   {
    "level": 20,
    "scale": 564.24858800000004,
    "resolution": 0.14929107082380833
   },
   {
    "level": 21,
    "scale": 282.12429400000002,
    "resolution": 0.074645535411904163
   },
   {
    "level": 22,
    "scale": 141.06214700000001,
    "resolution": 0.037322767705952081
   },
   {
    "level": 23,
    "scale": 70.531073500000005,
    "resolution": 0.018661383852976041
   }
  ],
  "origin": {
   "x": -20037508.342787001,
   "y": 20037508.342787001
  },
  "format": "PNG",
  "compressionQuality": 0,
  "rows": 256,
  "dpi": 96,
  "spatialReference": {
   "latestWkid": 3857,
   "wkid": 102100
  },
  "cols": 256
 },
 "meanValues": [
  34.308507806812749,
  71.912127472102071,
  80.794168721686148
 ],
 "hasColormap": false,
 "compressionType": "LZ77",
 "defaultCompressionQuality": 75,
 "maxValues": [
  255,
  255,
  255
 ],
 "hasHistograms": true,
 "datasetFormat": "SDR",
 "maxImageHeight": 4100,
 "sortField": "",
 "bandNames": [
  "Band_1",
  "Band_2",
  "Band_3"
 ],
 "spatialReference": {
  "latestWkid": 3857,
  "wkid": 102100
 },
 "fullExtent": {
  "ymin": 3391161.0049916953,
  "xmin": -10575933.073982693,
  "ymax": 3407969.4049916952,
  "xmax": -10560927.073982693,
  "spatialReference": {
   "latestWkid": 3857,
   "wkid": 102100
  }
 },
 "bandCount": 3,
 "rasterFunctionInfos": [
  {
   "help": "",
   "name": "None",
   "description": ""
  }
 ],
 "supportsStatistics": false,
 "sortableFields": "",
 "minValues": [
  0,
  0,
  0
 ],
 "allowRasterFunction": true,
 "allowComputeTiePoints": false,
 "serviceDataType": "esriImageServiceDataTypeRGB",
 "supportsAdvancedQueries": false,
 "currentVersion": 12.1,
 "sortValue": null,
 "objectIdField": "",
 "blockHeight": 128,
 "initialExtent": {
  "ymin": 3391161.0049916953,
  "xmin": -10575933.073982693,
  "ymax": 3407969.4049916952,
  "xmax": -10560927.073982693,
  "spatialReference": {
   "latestWkid": 3857,
   "wkid": 102100
  }
 },
 "pixelSizeX": 0.59999999999999998,
 "pixelSizeY": 0.59999999999999665,
 "defaultMosaicMethod": "Center",
 "name": "glostateparks/GISP_naip_2022_cir",
 "allowedMosaicMethods": "",
 "fields": [],
 "allowAnalysis": true,
 "hasRasterAttributeTable": false,
 "useStandardizedQueries": false,
 "description": "",
 "pixelType": "U8",
 "meanPixelSize": 0.59999999999999831,
 "exportTilesAllowed": false,
 "editFieldsInfo": null,
 "rasterTypeInfos": [
  {
   "help": "",
   "name": "Raster Dataset",
   "description": "Supports all ArcGIS Raster Datasets"
  }
 ],
 "defaultResamplingMethod": "Bilinear",
 "itemAccess": false,
 "minScale": 0,
 "cacheType": "Map",
 "serviceProperties": "Center<\/MosaicMethod>First<\/MosaicOperator>true<\/SortAscending><\/LockImageID><\/TileOrderField>0<\/TileOrderBase>0.000000<\/AvgImageSpacingX>0.000000<\/AvgImageSpacingY>0.0<\/ViewPointX>0.0<\/ViewPointY>0.0<\/ViewPointDefShiftX>0.0<\/ViewPointDefShiftY>None<\/CompressionMethod>75<\/CompressionQuality>0.010000<\/CompressionTolerance>Bilinear<\/SamplingMethod><\/ImageServiceProperties><\/ImageServer>",
 "advancedQueryCapabilities": {
  "supportsStatistics": false,
  "supportsSqlExpression": false,
  "supportsOrderBy": false,
  "useStandardizedQueries": false,
  "supportsPagination": false,
  "supportsDistinct": false
 },
 "capabilities": "Mensuration,Image,Metadata",
 "maxScale": 0,
 "singleFusedMapCache": true,
 "stdvValues": [
  49.175590219953172,
  51.383015614388761,
  53.345692523171429
 ],
 "allowedFields": "",
 "minPixelSize": 0,
 "storageInfo": {
  "storageFormat": "esriMapCacheStorageModeCompactV2",
  "packetSize": 128
 },
 "resampling": false,
 "sortAscending": true,
 "inspectionCapabilities": "",
 "maxPixelSize": 0,
 "allowedCompressions": "None,JPEG,LZ77,LERC",
 "uncompressedSize": 2101890420,
 "serviceDescription": "glostateparks/GISP_naip_2022_cir",
 "allowCopy": true,
 "copyrightText": "",
 "mensurationCapabilities": "Basic",
 "ownershipBasedAccessControlForRasters": null
}
