{ "extent": { "ymin": 3390168.1944768648, "xmin": -10576902.11736621, "ymax": 3409457.6839947645, "xmax": -10559930.406299902, "spatialReference": { "latestWkid": 3857, "wkid": 102100 } }, "blockWidth": 128, "mosaicOperator": "First", "serviceSourceType": "esriImageServiceSourceTypeDataset", "hasMultidimensions": false, "maxImageWidth": 15000, "tileInfo": { "lods": [ { "level": 0, "scale": 591657527.591555, "resolution": 156543.03392800014 }, { "level": 1, "scale": 295828763.79577702, "resolution": 78271.516963999937 }, { "level": 2, "scale": 147914381.89788899, "resolution": 39135.758482000092 }, { "level": 3, "scale": 73957190.948944002, "resolution": 19567.879240999919 }, { "level": 4, "scale": 36978595.474472001, "resolution": 9783.9396204999593 }, { "level": 5, "scale": 18489297.737236001, "resolution": 4891.9698102499797 }, { "level": 6, "scale": 9244648.8686180003, "resolution": 2445.9849051249898 }, { "level": 7, "scale": 4622324.4343090001, "resolution": 1222.9924525624949 }, { "level": 8, "scale": 2311162.2171550002, "resolution": 611.49622628137968 }, { "level": 9, "scale": 1155581.108577, "resolution": 305.74811314055756 }, { "level": 10, "scale": 577790.55428899999, "resolution": 152.87405657041106 }, { "level": 11, "scale": 288895.27714399999, "resolution": 76.437028285073239 }, { "level": 12, "scale": 144447.638572, "resolution": 38.21851414253662 }, { "level": 13, "scale": 72223.819285999998, "resolution": 19.10925707126831 }, { "level": 14, "scale": 36111.909642999999, "resolution": 9.5546285356341549 }, { "level": 15, "scale": 18055.954822, "resolution": 4.7773142679493699 }, { "level": 16, "scale": 9027.9774109999998, "resolution": 2.3886571339746849 }, { "level": 17, "scale": 4513.9887049999998, "resolution": 1.1943285668550503 }, { "level": 18, "scale": 2256.994353, "resolution": 0.59716428355981721 }, { "level": 19, "scale": 1128.4971760000001, "resolution": 0.29858214164761665 }, { "level": 20, "scale": 564.24858800000004, "resolution": 0.14929107082380833 }, { "level": 21, "scale": 282.12429400000002, "resolution": 0.074645535411904163 }, { "level": 22, "scale": 141.06214700000001, "resolution": 0.037322767705952081 }, { "level": 23, "scale": 70.531073500000005, "resolution": 0.018661383852976041 } ], "origin": { "x": -20037508.342787001, "y": 20037508.342787001 }, "format": "PNG", "compressionQuality": 0, "rows": 256, "dpi": 96, "spatialReference": { "latestWkid": 3857, "wkid": 102100 }, "cols": 256 }, "meanValues": [ 217.60052796744125, 217.02993540989814, 216.9268437392879 ], "hasColormap": false, "compressionType": "LZ77", "defaultCompressionQuality": 75, "maxValues": [ 255, 255, 255 ], "hasHistograms": true, "datasetFormat": "SDR", "maxImageHeight": 4100, "sortField": "", "bandNames": [ "Band_1", "Band_2", "Band_3" ], "spatialReference": { "latestWkid": 3857, "wkid": 102100 }, "fullExtent": { "ymin": 3390168.1944768648, "xmin": -10576902.11736621, "ymax": 3409457.6839947645, "xmax": -10559930.406299902, "spatialReference": { "latestWkid": 3857, "wkid": 102100 } }, "bandCount": 3, "rasterFunctionInfos": [{ "help": "", "name": "None", "description": "" }], "supportsStatistics": false, "sortableFields": "", "minValues": [ 0, 0, 0 ], "allowRasterFunction": true, "allowComputeTiePoints": false, "serviceDataType": "esriImageServiceDataTypeGeneric", "supportsAdvancedQueries": false, "currentVersion": 12, "sortValue": null, "objectIdField": "", "blockHeight": 128, "initialExtent": { "ymin": 3390168.1944768648, "xmin": -10576902.11736621, "ymax": 3409457.6839947645, "xmax": -10559930.406299902, "spatialReference": { "latestWkid": 3857, "wkid": 102100 } }, "pixelSizeX": 2.1109093366054106, "pixelSizeY": 2.1109093366053506, "defaultMosaicMethod": "Center", "name": "glostateparks/GISP_lakecomo_1930", "allowedMosaicMethods": "", "fields": [], "allowAnalysis": true, "hasRasterAttributeTable": false, "useStandardizedQueries": false, "description": "
Tobin Research, Inc. aerial imagery collected in 1930. This layer is a black and white photomosaic (multiple images pieced together) of the Lake Como quadrangle. <\/span><\/span><\/p><\/div>",
"pixelType": "U16",
"meanPixelSize": 2.1109093366053804,
"exportTilesAllowed": false,
"editFieldsInfo": null,
"rasterTypeInfos": [{
"help": "",
"name": "Raster Dataset",
"description": "Supports all ArcGIS Raster Datasets"
}],
"defaultResamplingMethod": "Bilinear",
"itemAccess": false,
"minScale": 0,
"cacheType": "Map",
"serviceProperties": " Tobin Research, Inc. aerial imagery collected in 1930. This layer is a black and white photomosaic (multiple images pieced together) of the Lake Como quadrangle. <\/span><\/span><\/p><\/div>",
"allowCopy": true,
"copyrightText": "",
"mensurationCapabilities": "Basic",
"ownershipBasedAccessControlForRasters": null
}